BEGIN:VCALENDAR
VERSION:2.0
PRODID:-//Special Events Management - ECPv6.15.20//NONSGML v1.0//EN
CALSCALE:GREGORIAN
METHOD:PUBLISH
X-ORIGINAL-URL:https://chicagoevents.com
X-WR-CALDESC:Events for Special Events Management
REFRESH-INTERVAL;VALUE=DURATION:PT1H
X-Robots-Tag:noindex
X-PUBLISHED-TTL:PT1H
BEGIN:VTIMEZONE
TZID:America/Chicago
BEGIN:DAYLIGHT
TZOFFSETFROM:-0600
TZOFFSETTO:-0500
TZNAME:CDT
DTSTART:20250309T080000
END:DAYLIGHT
BEGIN:STANDARD
TZOFFSETFROM:-0500
TZOFFSETTO:-0600
TZNAME:CST
DTSTART:20251102T070000
END:STANDARD
BEGIN:DAYLIGHT
TZOFFSETFROM:-0600
TZOFFSETTO:-0500
TZNAME:CDT
DTSTART:20260308T080000
END:DAYLIGHT
BEGIN:STANDARD
TZOFFSETFROM:-0500
TZOFFSETTO:-0600
TZNAME:CST
DTSTART:20261101T070000
END:STANDARD
BEGIN:DAYLIGHT
TZOFFSETFROM:-0600
TZOFFSETTO:-0500
TZNAME:CDT
DTSTART:20270314T080000
END:DAYLIGHT
BEGIN:STANDARD
TZOFFSETFROM:-0500
TZOFFSETTO:-0600
TZNAME:CST
DTSTART:20271107T070000
END:STANDARD
END:VTIMEZONE
BEGIN:VEVENT
DTSTART;TZID=America/Chicago:20260509T113000
DTEND;TZID=America/Chicago:20260509T130000
DTSTAMP:20260425T184216
CREATED:20220926T203544Z
LAST-MODIFIED:20260324T193237Z
UID:10000083-1778326200-1778331600@chicagoevents.com
SUMMARY:Switch on Summer
DESCRIPTION:Get ready for ComEd’s 12th annual Switch on Summer\, which celebrates the start of summer with the official switching on of Chicago’s iconic Buckingham Fountain! Brought to you in partnership with the Chicago Park District\, Switch on Summer is open to the public and will include the official kick-off for the Chicago Park District’s Night Out in the Parks  summer programming. Night Out in the Parks  is the premiere event series that activates parks across the city throughout the summer with cultural events and performances. \nSwitch on Summer will also showcase cultural performances by Chicago artists\, ComEd customer support resources\, Chicago Park District art and maker stations\, and engaging activities for children\, families\, and residents across Chicago. \n\n\n\n\nWant to Switch on Chicago’s Buckingham Fountain?\n\n\n\n\nEnter today  for your chance to flip the switch during ComEd’s annual Switch on Summer celebration and bring Chicago’s iconic Buckingham Fountain to life for the 2026 summer season. All entries for the Switch on Summer Sweepstakes must be received by 11:59 p.m. CT on April 17\, 2026. \n\n\n\nCheck out the 2022 recap video here!
URL:https://chicagoevents.com/event/switch-on-summer/
LOCATION:Buckingham Fountain\, 301 S Columbus Dr.\, Chicago\, IL\, United States
CATEGORIES:Family Friendly Events,Featured,Festivals,Free Events,Music Festivals
ATTACH;FMTTYPE=image/jpeg:https://chicagoevents.com/wp-content/uploads/SwitchOnSummer.jpg
END:VEVENT
END:VCALENDAR